BEGIN:VCALENDAR
VERSION:2.0
PRODID:-//SamOye Musical Consort Inc - ECPv6.15.20//NONSGML v1.0//EN
CALSCALE:GREGORIAN
METHOD:PUBLISH
X-WR-CALNAME:SamOye Musical Consort Inc
X-ORIGINAL-URL:https://samoyemusicalconsortinc.org
X-WR-CALDESC:Events for SamOye Musical Consort Inc
REFRESH-INTERVAL;VALUE=DURATION:PT1H
X-Robots-Tag:noindex
X-PUBLISHED-TTL:PT1H
BEGIN:VTIMEZONE
TZID:UTC
BEGIN:STANDARD
TZOFFSETFROM:+0000
TZOFFSETTO:+0000
TZNAME:UTC
DTSTART:20240101T000000
END:STANDARD
END:VTIMEZONE
BEGIN:VEVENT
DTSTART;TZID=UTC:20250216T100000
DTEND;TZID=UTC:20250216T120000
DTSTAMP:20260423T201620
CREATED:20250210T115203Z
LAST-MODIFIED:20250210T122234Z
UID:2857-1739700000-1739707200@samoyemusicalconsortinc.org
SUMMARY:Renewal A TWO-MAN MUSICAL
DESCRIPTION:Sunday\, FEBRUARY 16\, 2025 10:00 PM \n\n\n\n\nPerforming: \n\n\n\n\nAdeniyi Samuel (Bass Baritone)\nRanti Neo (Soprano) \n\n\n\n\nVenue: Beulah Ministry RCCG Christ The Rock \n\n\n\n\nAddress: 14030 Park Avenue\, Conroe TX 77384
URL:https://samoyemusicalconsortinc.org/event/renewal-a-two-man-musical/
LOCATION:Beulah Ministry RCCG Christ The Rock\, 14030 Park Avenue\, Conroe TX 77384
CATEGORIES:Events,Shows
ATTACH;FMTTYPE=image/jpeg:https://samoyemusicalconsortinc.org/wp-content/uploads/2018/03/renewal-flyer.jpg
ORGANIZER;CN="SamOye Musical Consort":MAILTO:adeniyi@adeniyisamuelmusic.com
END:VEVENT
END:VCALENDAR